BEGIN:VCALENDAR
METHOD:PUBLISH
PRODID:-//SCTS-Website//EN
VERSION:2.0
BEGIN:VEVENT
ORGANIZER;CN=Tilly Mitchell:MAILTO:tilly@scts.org
DTSTAMP:20260109T013707Z
DTSTART:20260914T050000Z
DTEND:20260914T170000Z
SUMMARY:London - Brighton Cycle Ride 2026
UID:468@SCTS
CREATED:20260109
DESCRIPTION:\n\nMore information\n\n
LOCATION:London-Brighton
END:VEVENT
END:VCALENDAR