BEGIN:VCALENDAR
METHOD:PUBLISH
PRODID:-//SCTS-Website//EN
VERSION:2.0
BEGIN:VEVENT
ORGANIZER;CN=Mara Banuta:MAILTO:mara@scts.org
DTSTAMP:20260107T162511Z
DTSTART:20260618T070000Z
DTEND:20260619T140000Z
SUMMARY:ST5.1: Cardiothoracic Surgery Sub-specialty Operative Course
UID:460@SCTS
CREATED:20260107
DESCRIPTION:\n\n2026 Programme\n\nLive animal operating course which covers the below sessions and procedures:\n\nCardiac:\n\nAortic root replacementMitral repair wetlabEmergency CABGThoracic:\n\nVATS segmentectomyCarinal resectionSleeve resection
LOCATION:Medizin im Grünen, near Berlin
END:VEVENT
END:VCALENDAR