BEGIN:VCALENDAR
METHOD:PUBLISH
PRODID:-//SCTS-Website//EN
VERSION:2.0
BEGIN:VEVENT
ORGANIZER;CN=SCTS & ACTACC:MAILTO:mara@scts.org
DTSTAMP:20251028T103722Z
DTSTART:20251110T130000Z
DTEND:20251110T140000Z
SUMMARY:MIS Accreditation Webinar
UID:452@SCTS
CREATED:20251028
DESCRIPTION:\n\nSCTS and ACTACC are pleased to announce the launch of a joint accreditation process for centres undertaking Minimally Invasive Cardiac Surgery (MICS) and **Enhanced Recovery After Cardiac Surgery (ERACS)**.\n\nThis initiative, supported by the National Clinical Director for Heart Disease, aims to improve patient outcomes, enhance recovery, and promote best practicSCTS and ACTACC are pleased to announce the launch of a joint accreditation process for centres undertaking Minimally Invasive Cardiac Surgery (MICS) and **Enhanced Recovery After Cardiac Surgery (ERACS)**.\n\nThis initiative, supported by the National Clinical Director for Heart Disease, aims to improve patient outcomes, enhance recovery, and promote best practice across UK cardiac units.\n\nCentres achieving accreditation will be recognised for their commitment to innovation, quality, and patient-centred caree across UK cardiac units.\n\nCentres achieving accreditation will be recognised for their commitment to innovation, quality, and patient-centred care\n\nIf you missed the meeting you can watch below\n\n\n\n
LOCATION:Online
END:VEVENT
END:VCALENDAR