BEGIN:VCALENDAR
METHOD:PUBLISH
PRODID:-//SCTS-Website//EN
VERSION:2.0
BEGIN:VEVENT
ORGANIZER;CN=The Royal College of Surgeons England:MAILTO:mara@scts.org
DTSTAMP:20250922T131049Z
DTSTART:20251017T080000Z
DTEND:20251017T160000Z
SUMMARY:Women at the Cutting Edge
UID:451@SCTS
CREATED:20250922
DESCRIPTION:More Info.\n\nWe are delighted to invite you to Women at the Cutting Edge on Friday 17 October 2025, in Birmingham.  \n \nHosted by Felicity Meyer, Chair of the Women in Surgery Forum, this event unites and supports women at all stages of their surgical careers. You’ll hear from women thriving in their field, participate in honest conversations and build your community of like-minded peers and mentors.  \n\nWhat to expect:\n\nExperience a rare opportunity to learn from and connect with some of the most trailblazing and dynamic women in surgery.\n\nA safe space to take part in open, thought-provoking conversations.\n\nGain real-world advice, which you'll have the tools and support to put into practice. \n\nNo matter your career grade, you’ll leave feeling empowered and energised by women at the cutting edge. \n\nEnter the poster competition for a chance to win our prize session; submit your abstract by 26 August. Medical students, trainees and SAS equivalents are eligible to apply.\n\nRCS England members receive over 50% discount.\n\n
LOCATION:Birmingham
END:VEVENT
END:VCALENDAR