BEGIN:VCALENDAR
METHOD:PUBLISH
PRODID:-//SCTS-Website//EN
VERSION:2.0
BEGIN:VEVENT
ORGANIZER:MAILTO:emma@scts.org
DTSTAMP:20250814T211541Z
DTSTART:20270321T080000Z
DTEND:20270323T180000Z
SUMMARY:SCTS Annual Meeting 2027
UID:448@SCTS
CREATED:20250814
DESCRIPTION:The SCTS Annual Meeting 2027 will take place at the ICC Birmingham\n\nMore details to come...\n\n
END:VEVENT
END:VCALENDAR