BEGIN:VCALENDAR
METHOD:PUBLISH
PRODID:-//SCTS-Website//EN
VERSION:2.0
BEGIN:VEVENT
ORGANIZER;CN=Aman Coonar:MAILTO:tilly@scts.org
DTSTAMP:20250709T102648Z
DTSTART:20250914T090000Z
DTEND:20250914T170000Z
SUMMARY:London - Brighton Cycle Ride
UID:446@SCTS
CREATED:20250709
DESCRIPTION:\n\nRide for hearts, lungs, and lives. 💓🌬️\nTake on the London to Brighton Cycle Ride with Team SCTS\n14th September 2025\n\n\n\nSCTS tackle their first London - Brighton Cycle Ride on Sunday 14th September 2025- riding to advance patient care and power cardiothoracic surgery. Back our riders - Team SCTS!\n\nAs President of SCTS (www.scts.org), I am proud to lead a community dedicated to excellent patient care and inspiring the next generation of surgical and healthcare professionals. Our members – from surgeons and trainees to nurses, students, and allied health colleagues – are united by a commitment to excellence.\n\nOn Sunday 14 September 2025, TEAM SCTS will take on our first London to Brighton Cycle Ride. This is not just a sporting challenge; it is a public statement of our values – aiming high, teamwork, resilience, and an unshakable drive to deliver better patient outcomes.\n\nEvery mile we ride will help fund initiatives that improve and push the boundaries of care, support the people who deliver it, and ensure we continue to innovate for the future.\n\nI invite you to stand with TEAM SCTS. Your support – whether through donation, support or advocacy– will help turn our vision into action. Together, we can ride further, achieve more, and make a lasting difference.\n\nThank you for your commitment to this journey.\n\nAman S Coonar\n\nConsultant Thoracic Surgeon, Royal Papworth Hospital\n\nPresident, SCTS\n\nNHS National Clinical Lead for Thoracic Surgery\n\n\n\n
END:VEVENT
END:VCALENDAR