BEGIN:VCALENDAR
METHOD:PUBLISH
PRODID:-//SCTS-Website//EN
VERSION:2.0
BEGIN:VEVENT
ORGANIZER;CN=Mara Banuta:MAILTO:mara@scts.org
DTSTAMP:20250530T135121Z
DTSTART:20250628T090000Z
DTEND:20250628T111500Z
SUMMARY:NAHP Webinars 2025: Quality Improvement
UID:445@SCTS
CREATED:20250530
DESCRIPTION:\n\n10:00 to 12:15\n\n\n\nCourse directors: Dr Hema Chavan, Mrs Rosalie Magboo and Mrs Nisha Bhudia\nCPD points: 3 points with certificate\n\nProgramme\n\nCourse aimed at Nurses, Allied health professionals, Surgical care practitioners, Operating department practitioners, Physician Associates, Physiotherapist and Foundation Doctors.\n\n \n\nCourse fee:\n\nFree to SCTS Members, but registration via the SCTS website required. £60 for Non SCTS members. Non-attendees will not be refunded.To become an SCTS member, please click here \n\n
LOCATION:Virtual - Zoom
END:VEVENT
END:VCALENDAR