BEGIN:VCALENDAR
METHOD:PUBLISH
PRODID:-//SCTS-Website//EN
VERSION:2.0
BEGIN:VEVENT
ORGANIZER;CN=Lorraine Richardson:MAILTO:Lorrainerichardson1@btinternet.com
DTSTAMP:20250326T150207Z
DTSTART:20250624T153000Z
DTEND:20250624T153000Z
SUMMARY:25 Years of Adult Congenital Heart Disease Service in Birmingham
UID:444@SCTS
CREATED:20250326
DESCRIPTION:Programme\n\nRegistration Form\n\n\n\n
LOCATION:Birmingham
END:VEVENT
END:VCALENDAR