BEGIN:VCALENDAR
METHOD:PUBLISH
PRODID:-//SCTS-Website//EN
VERSION:2.0
BEGIN:VEVENT
ORGANIZER;CN=Emma Piotrowski:MAILTO:emma@scts.org
DTSTAMP:20250227T113635Z
DTSTART:20250316T153000Z
DTEND:20250316T170000Z
SUMMARY:SCTS 2025: Congenital Wetlab - Ross Procedure
UID:443@SCTS
CREATED:20250227
DESCRIPTION:\n\n
LOCATION:EICC, Edinburgh - Cromdale Hall
END:VEVENT
END:VCALENDAR