BEGIN:VCALENDAR
METHOD:PUBLISH
PRODID:-//SCTS-Website//EN
VERSION:2.0
BEGIN:VEVENT
ORGANIZER:MAILTO:mara@scts.org
DTSTAMP:20250117T144746Z
DTSTART:20250225T083000Z
DTEND:20250226T170000Z
SUMMARY:Thoracic Robotics 1: Where do we stand in 2025?
UID:442@SCTS
CREATED:20250117
DESCRIPTION:\n\nThe Thoracic Robotics 1: Where do we stand in 2025? course will run from 25 – 26 February 2025 in Windsor. The course will be available in-person, all times shown below are local UK times.\n\nCourse Overview\n\nThis course aims to review the standardised approach of thoracic robotic surgery for lung resection and mediastinal surgery. We will also provide lectures and training about non-technical skills, 3D reconstruction and endobronchial navigation which are the contemporary needs of thoracic surgeons.\n\nOver two days, a panel of European experts will deliver lectures and training on the main contemporary topics of robotic thoracic surgery.  It will be the perfect opportunity for sharing experience and questions with experts in the field, in a friendly and less formal. After an overview of the standardised approach of procedure through a “step by step” approach, we will discuss specific non-technical skills implied in a robotic OR with dedicated exercises in groups. Training sessions will focus on two important topics of thoracic surgeons: preoperative planning through 3D reconstruction and new approach of lung exploration with an endobronchial navigation system.\n\nLearning Objectives\n\nReview of standardized approach for robotic lung resectionReview of standardized approach for robotic mediastinal surgeryInsight into non-technical skills with training in small groupsLecture and training with 3D reconstructionLecture and training with endobronchial navigation system
LOCATION:Windsor, UK
END:VEVENT
END:VCALENDAR