BEGIN:VCALENDAR
METHOD:PUBLISH
PRODID:-//SCTS-Website//EN
VERSION:2.0
BEGIN:VEVENT
ORGANIZER;CN=Jayesh Parmar:MAILTO:info@londoncorereview.com
DTSTAMP:20250108T101942Z
DTSTART:20250514T080000Z
DTEND:20250516T170000Z
SUMMARY:London Core Review Cardiothoracic Surgery Course
UID:441@SCTS
CREATED:20250108
DESCRIPTION:London Core Review Cardiothoracic Surgery Course 14-16 May 2025 - Wellcome Collection\n\nOur World-Class speaker lineup Includes Professor Tirone David, Professor Gebrine El Khoury, Professor David Taggart, Professor Karen Redmond, Professor Borut Gersak, and Dr Iqbal Malik. Our three-day attendees will receive a complementary 12-month web app access, 3-day course book, a pen, and a bag. Enrol early and save.\n\n\n\n
END:VEVENT
END:VCALENDAR