BEGIN:VCALENDAR
METHOD:PUBLISH
PRODID:-//SCTS-Website//EN
VERSION:2.0
BEGIN:VEVENT
ORGANIZER;CN=Mara Banuta:MAILTO:mara@scts.org
DTSTAMP:20250107T151517Z
DTSTART:20250924T083000Z
DTEND:20250925T150000Z
SUMMARY:Cardiothoracic Curriculum Review Course for Trust-Appointed Doctors
UID:440@SCTS
CREATED:20250107
DESCRIPTION:New addition to the SCTS Education Trust Appointed Doctors portfolio of courses! \n\n\n\nProgramme \n\nThis 2-day course is supported by Ethicon and will be run at their new state of the art facility: Pinewood Campus.\n\nMeals are included with course registration, but accommodations and travel costs are not. To apply, fill in the registration form at the bottom of the page and we will get back to you if you have successfully secured a spot on the course! \n\nThe course will review the adult cardiothoracic curriculum. It is aimed at Trust Appointed Doctors with at least 2 years of experience on a registrar-level cardiothoracic surgery rota (equivalent to NTN ST4 level) and is aligned with the current curriculum. The format will include small-group teaching, simulation and wet lab sessions.\n\nClinical scenarios will include:\n\nmanagement of primary lung cancerpulmonary metastasectomymesotheliomachest wall tumourspectus managementlung volume reduction techniquescoronary artery disease managementvalvular heart diseasemanagement of aortovascular diseaseTechniques of segmentectomy, lobectomy sleeve resection, and heart valve techniques will be undertaken. Thoracic and Cardiac Critical Conditions will be reviewed. Cardiothoracic trauma and its management will also be discussed.\n\n{form=1063}\n\n
LOCATION:Pinewood Campus, Nine Mile Ride, Wokingham RG40 3EW
END:VEVENT
END:VCALENDAR