BEGIN:VCALENDAR
METHOD:PUBLISH
PRODID:-//SCTS-Website//EN
VERSION:2.0
BEGIN:VEVENT
ORGANIZER;CN=Mara Banuta:MAILTO:mara@scts.org
DTSTAMP:20250106T104933Z
DTSTART:20251205T080000Z
DTEND:20251205T163000Z
SUMMARY:ST1 Phase 1: Introduction to Cardiothoracic Surgery Course
UID:438@SCTS
CREATED:20250106
DESCRIPTION:  Content includes hands on surgical wetlab and lectures, aimed at ST1 NTNs. \n\n\n\n \n\nTARGET AUDIENCE\n\nST1 trainees invited via email to register and attend. It is a great opportunity to meet your year group, network and gain insights into how to get the best out of your training programme.\n\nCOURSE  HIGHLIGHTS\n\nHands on simulated learning of cardiac and thoracic proceduresOver view of the current aspects of Cardiac and Thoracic surgeryIntroduction into the Cardiothoracic Training and Selection process particularly ST1 run through programmeDELEGATE FEEDBACK\n\n'Very engaging. Approachable faculty. Hands on experience.'\n\n'Good range of lectures, interesting topics from engaging speakers'\n\n'Really well run, excellent and informative faculty, who presented topics really relevant for those of us who are applying. Venue was really lovely. Wetlab equipment was very good.'\n\n \n\n
LOCATION:Ashorne Hill, Leamington Spa
END:VEVENT
END:VCALENDAR