BEGIN:VCALENDAR
METHOD:PUBLISH
PRODID:-//SCTS-Website//EN
VERSION:2.0
BEGIN:VEVENT
ORGANIZER;CN=Mara Banuta:MAILTO:mara@scts.org
DTSTAMP:20241203T113538Z
DTSTART:20251127T080000Z
DTEND:20251128T160000Z
SUMMARY:ST7.2: Leadership and Professionalism Course
UID:436@SCTS
CREATED:20241203
DESCRIPTION: \n\n\n\nST7.2: Leadership and Professionalism Course \n\nThis course is aimed at Nationally Appointed Surgical Trainees at ST7 and Trust Appointed Doctors of equivalent level in the UK. For TADs, please submit an application using the form at the bottom of the page. \n\nPlease note: To be eligible to attend this course, you will need to be a member of SCTS.\n\nContent includes:\n\nDealing with complaints\n\nPatient deaths and the Coroner\n\nDuty of Candour and medical errors\n\nMedicolegal issues\n\nInformed consent\n\nConsultant interviews\n\n{form=1069}\n\n \n\n
LOCATION:Ashorne Hill, Leamington Spa
END:VEVENT
END:VCALENDAR