BEGIN:VCALENDAR
METHOD:PUBLISH
PRODID:-//SCTS-Website//EN
VERSION:2.0
BEGIN:VEVENT
ORGANIZER;CN=Mara Banuta:MAILTO:mara@scts.org
DTSTAMP:20241203T113040Z
DTSTART:20251118T080000Z
DTEND:20251119T170000Z
SUMMARY:ST4.1: Core Cardiac Surgery Course
UID:434@SCTS
CREATED:20241203
DESCRIPTION:        \n\n              Programme\n\nST4.1: Core Cardiac Surgery Course \n\nThis course content includes:\n\nMitral valve surgery wet-labTricuspid valve surgery wet-labInfective endocarditisAtrial fibrillation surgery wet-labInfective endocarditisPericardiectomyCardiac tumour managementMassive pulmonary embolismRedo cardiac surgeryCongenital cardiac surgeryAtrial septal defect repair wet-labCardiac CT / MRIEchocardiography (TOE)
LOCATION:Ashorne Hill Conference Centre, Leamington Spa
END:VEVENT
END:VCALENDAR