BEGIN:VCALENDAR
METHOD:PUBLISH
PRODID:-//SCTS-Website//EN
VERSION:2.0
BEGIN:VEVENT
ORGANIZER;CN=Mara Banuta:MAILTO:mara@scts.org
DTSTAMP:20241203T112521Z
DTSTART:20251002T070000Z
DTEND:20251003T150000Z
SUMMARY:ST5.1: Cardiothoracic Surgery Sub-specialty Operative Course
UID:428@SCTS
CREATED:20241203
DESCRIPTION:\n\n \n\n ST5.1 Phase 2: Cardiothoracic Surgery Sub-specialty Operative Course \n\n\n\nProgramme\n\nThis course content includes:\n\nCardiac:\n\nAortic root replacementMitral repair wetlabEmergency CABGThoracic:\n\nVATS segmentectomyCarinal resectionSleeve resection
LOCATION:Medizin im Grünen, near Berlin
END:VEVENT
END:VCALENDAR