BEGIN:VCALENDAR
METHOD:PUBLISH
PRODID:-//SCTS-Website//EN
VERSION:2.0
BEGIN:VEVENT
ORGANIZER:MAILTO:mara@scts.org
DTSTAMP:20241016T155059Z
DTSTART:20241122T090000Z
DTEND:20241123T160000Z
SUMMARY:3rd Annual ACTSCP Cardiothoracic Workshop
UID:421@SCTS
CREATED:20241016
DESCRIPTION:3rd Annual ACTSCP Cardiothoracic Workshop\n\nThe Walker Building, 58 Oxford Street, Birmingham,  B5 5NR\n\n22nd - 23rd November 2024\n\nClick here to Register\n\nClick here to secure your place - payment link\n\n\n\n\n\n
END:VEVENT
END:VCALENDAR