BEGIN:VCALENDAR
METHOD:PUBLISH
PRODID:-//SCTS-Website//EN
VERSION:2.0
BEGIN:VEVENT
ORGANIZER:MAILTO:h.dyson@rcsed.ac.uk
DTSTAMP:20241007T105647Z
DTSTART:20241017T180000Z
DTEND:20241017T190000Z
SUMMARY:Airway conditions and thoracic surgery
UID:419@SCTS
CREATED:20241007
DESCRIPTION:Overview\n\nThis webinar will focus on conditions affecting airways that require the attention of a thoracic surgeon. The webinar will describe the conditions and focus on management including surgical procedures.\n\nAims\n\nEducate about airway conditions and current trends in management of these conditions.\n\nLearning Objectives\n\nBy the end of this webinar, attendees should be able to:\n\nDiscuss the various airway conditions that require thoracic surgical managementDiscuss indications for interventionHave an understanding of surgical procedures and postoperative management.Register Now\n\nPanellists\n\nOur panellists include:\n\nMr. Maninder Singh Kalkat MS, MCh, FRCS (CTh) - Mr. Kalkat is Consultant Thoracic Surgeon in the Department of Thoracic Surgery at Queen Elizabeth Hospital, University Hospital Birmingham. He is an expert in airways disease and minimally invasive surgery for chest conditions, including robotic surgery. Mr Kalkat has lectured and published widely on the subject of airway and chest wall diseases.Mr. Vivek Srivastava FRCSEd (CTh), MBA - Consultant Cardiac Surgeon, Oxford University Hospitals NHS FT; Member and Webinar Lead, Surgical Specialty Board for Cardiothoracic Surgery, RCSEd.CPD\n\n1 Hour\n\nTo be eligible to receive CPD hours for webinar attendance you must connect for the full duration of the webinar AND complete the feedback survey.\n\nRecording\n\nA recording of the webinar will be made available on this page in the days following the live broadcast.\n\n
LOCATION:On line
END:VEVENT
END:VCALENDAR