BEGIN:VCALENDAR
METHOD:PUBLISH
PRODID:-//SCTS-Website//EN
VERSION:2.0
BEGIN:VEVENT
ORGANIZER:MAILTO:mara@scts.org
DTSTAMP:20241007T094311Z
DTSTART:20241017T070000Z
DTEND:20241017T090000Z
SUMMARY:Mechanical Circulatory Support (ECMO & VAD)
UID:418@SCTS
CREATED:20241007
DESCRIPTION:\n\n
LOCATION:On line
END:VEVENT
END:VCALENDAR