BEGIN:VCALENDAR
METHOD:PUBLISH
PRODID:-//SCTS-Website//EN
VERSION:2.0
BEGIN:VEVENT
ORGANIZER:MAILTO:jennie@cfsevents.co.uk
DTSTAMP:20241001T131208Z
DTSTART:20241104T141100Z
DTEND:20241105T141100Z
SUMMARY:BCCA Annual Conference 2024
UID:417@SCTS
CREATED:20241001
DESCRIPTION:\n\n
LOCATION:The Helix, DCU, Dublin
END:VEVENT
END:VCALENDAR