BEGIN:VCALENDAR
METHOD:PUBLISH
PRODID:-//SCTS-Website//EN
VERSION:2.0
BEGIN:VEVENT
ORGANIZER:MAILTO:mara@scts.org
DTSTAMP:20241001T095144Z
DTSTART:20241118T105100Z
DTEND:20241119T105100Z
SUMMARY:EACTS Congenital Skills Course
UID:416@SCTS
CREATED:20241001
DESCRIPTION:\n\n
LOCATION:NH Collection Giustiniano Via Virgilio 1 E/F/G 00193 Rome Italy
END:VEVENT
END:VCALENDAR