BEGIN:VCALENDAR
METHOD:PUBLISH
PRODID:-//SCTS-Website//EN
VERSION:2.0
BEGIN:VEVENT
ORGANIZER:MAILTO:mara@scts.org
DTSTAMP:20241001T094140Z
DTSTART:20241123T100000Z
DTEND:20241123T160000Z
SUMMARY:SCTS INSINC Student Engagement Day 2024
UID:415@SCTS
CREATED:20241001
DESCRIPTION:\n\n
LOCATION:University of Cambridge, School of Clinical Medicine
END:VEVENT
END:VCALENDAR