BEGIN:VCALENDAR
METHOD:PUBLISH
PRODID:-//SCTS-Website//EN
VERSION:2.0
BEGIN:VEVENT
ORGANIZER:MAILTO:mara@scts.org
DTSTAMP:20240924T111921Z
DTSTART:20241003T070000Z
DTEND:20241003T090000Z
SUMMARY:Complications of Thoracic Surgery
UID:414@SCTS
CREATED:20240924
DESCRIPTION:\n\n
LOCATION:On line
END:VEVENT
END:VCALENDAR