BEGIN:VCALENDAR
METHOD:PUBLISH
PRODID:-//SCTS-Website//EN
VERSION:2.0
BEGIN:VEVENT
ORGANIZER;CN=Mostin Hu:MAILTO:mostin.hu1@nhs.net
DTSTAMP:20240920T101606Z
DTSTART:20241003T170000Z
DTEND:20241003T190000Z
SUMMARY:INSINC Medical Student Mentorship in Cardiothoracic Surgery
UID:413@SCTS
CREATED:20240920
DESCRIPTION:\n\nWe are excited to launch the first event for the SCTS INSINC Mentorship Program. This is open to all medical students and doctors of all levels interested in learning more about SCTS's work on widening participation and EDI strategy, SCTS student education and what INSINC does, and mentorship in cardiothoracic surgery - how to get involved, the need for mentorship, and the principles of mentoring from students' and mentors' perspectives.\n\n \n\nWe have a great line-up of speakers, including Mr Narain Moorjani (SCTS President, consultant cardiothoracic surgeon at Royal Papworth Hospital), Mr Jason Ali (SCTS Student Education Lead, consultant cardiothoracic surgeon at Royal Papworth Hospital) and Professor Mahmoud Loubani (consultant cardiothoracic surgeon at Castle Hill Hull University Hospital). We are also excited to have Lucy Vere, Head of Learning and Organisational Development at Hull University Teaching Hospitals NHS Trust.\n\n \n\nPlease consider joining us on 3rd October from 6-8pm on MedAll!\n\nREGISTER\n\n
LOCATION:On line
END:VEVENT
END:VCALENDAR