BEGIN:VCALENDAR
METHOD:PUBLISH
PRODID:-//SCTS-Website//EN
VERSION:2.0
BEGIN:VEVENT
ORGANIZER;CN=Lorraine Richardson:MAILTO:lorrrainerichardson1@btinternet.com
DTSTAMP:20240920T101044Z
DTSTART:20250117T110900Z
DTEND:20250117T110900Z
SUMMARY:Barts Pectus Symposium
UID:412@SCTS
CREATED:20240920
DESCRIPTION:\n\nShould you require any further information please contract Lorraine on lorrainerichardson1@btinternet.com  / 077111 32946\n\n
LOCATION:Vintner's Hall, London
END:VEVENT
END:VCALENDAR