BEGIN:VCALENDAR
METHOD:PUBLISH
PRODID:-//SCTS-Website//EN
VERSION:2.0
BEGIN:VEVENT
ORGANIZER:MAILTO:mara@scts.org
DTSTAMP:20240919T095214Z
DTSTART:20240926T070000Z
DTEND:20240926T090000Z
SUMMARY:Complications of Cardiac Surgery
UID:411@SCTS
CREATED:20240919
DESCRIPTION:\n\n
LOCATION:On line
END:VEVENT
END:VCALENDAR