BEGIN:VCALENDAR
METHOD:PUBLISH
PRODID:-//SCTS-Website//EN
VERSION:2.0
BEGIN:VEVENT
ORGANIZER:MAILTO:mara@scts.org
DTSTAMP:20240917T161815Z
DTSTART:20241004T130000Z
DTEND:20241004T150000Z
SUMMARY:SAFETY IN SURGERY SYMPOSIUM
UID:410@SCTS
CREATED:20240917
DESCRIPTION:Registration for CORESS Safety in Surgery 4th Annual Symposium: 4th October 14:00 - 16:00 is now open!\n\nThis event is hosted by CORESS Programme Director Harriet Corbett and includes a welcome message from the CORESS Chair Professor Sir Neil Mortensen.  The online event programme includes four speakers, each presenting on a safety aspect from the perspective of their area of expertise. Full programme within the flyer attached.\n\nThe event is free, online, and registration is via Eventbrite. Please use the link below or in the flyer to register to attend, once registered the meeting link will be sent to you.\n\nI hope you can join us on the day, please feel free to circulate the flyer on.\n\n\n\n
LOCATION:Online
END:VEVENT
END:VCALENDAR