BEGIN:VCALENDAR
METHOD:PUBLISH
PRODID:-//SCTS-Website//EN
VERSION:2.0
BEGIN:VEVENT
ORGANIZER;CN=Georgia Layton:MAILTO:georgia.layton@uhl-tr.nhs.uk
DTSTAMP:20240911T100639Z
DTSTART:20240919T070000Z
DTEND:20240919T110000Z
SUMMARY:Thoracic Trauma
UID:408@SCTS
CREATED:20240911
DESCRIPTION:\n\n
LOCATION:On line
END:VEVENT
END:VCALENDAR