BEGIN:VCALENDAR
METHOD:PUBLISH
PRODID:-//SCTS-Website//EN
VERSION:2.0
BEGIN:VEVENT
ORGANIZER;CN=Georgia Layton:MAILTO:georgia.layton@uhl-tr.nhs.uk
DTSTAMP:20240911T100623Z
DTSTART:20240912T070000Z
DTEND:20240912T110000Z
SUMMARY:Aortic Dissection
UID:407@SCTS
CREATED:20240911
DESCRIPTION:\n\n
LOCATION:On line
END:VEVENT
END:VCALENDAR