BEGIN:VCALENDAR
METHOD:PUBLISH
PRODID:-//SCTS-Website//EN
VERSION:2.0
BEGIN:VEVENT
ORGANIZER;CN=Ilaria Marchi:MAILTO:I.Marchi@rcsed.ac.uk
DTSTAMP:20240902T095931Z
DTSTART:20241130T105700Z
DTEND:20241201T105700Z
SUMMARY:Ultrasound Venous and Arterial Scanning course (UVAS)
UID:406@SCTS
CREATED:20240902
DESCRIPTION:\n\n
LOCATION:Birmingham
END:VEVENT
END:VCALENDAR