BEGIN:VCALENDAR
METHOD:PUBLISH
PRODID:-//SCTS-Website//EN
VERSION:2.0
BEGIN:VEVENT
ORGANIZER;CN=Miss Georgia R. Layton MBChB MRCS:MAILTO:georgia.layton@uhl-tr.nhs.uk
DTSTAMP:20240902T095400Z
DTSTART:20240905T070000Z
DTEND:20240905T090000Z
SUMMARY:Stridor & Airway emergencies
UID:405@SCTS
CREATED:20240902
DESCRIPTION:\n\n
LOCATION:On line
END:VEVENT
END:VCALENDAR