BEGIN:VCALENDAR
METHOD:PUBLISH
PRODID:-//SCTS-Website//EN
VERSION:2.0
BEGIN:VEVENT
ORGANIZER;CN=Anne Dobbs:MAILTO:anne.dobbs@ulh.nhs.uk
DTSTAMP:20240827T145712Z
DTSTART:20240927T083000Z
DTEND:20240927T150000Z
SUMMARY:East and West Midlands Regional Aortic Dissection Study Day
UID:404@SCTS
CREATED:20240827
DESCRIPTION:\n\n
LOCATION:Pilgrim Hospital Boston
END:VEVENT
END:VCALENDAR