BEGIN:VCALENDAR
METHOD:PUBLISH
PRODID:-//SCTS-Website//EN
VERSION:2.0
BEGIN:VEVENT
ORGANIZER;CN=Michael Ward:MAILTO:michael.ward18@nhs.net
DTSTAMP:20240812T170314Z
DTSTART:20240910T080000Z
DTEND:20240910T150000Z
SUMMARY:Rib Fixation Course
UID:403@SCTS
CREATED:20240812
DESCRIPTION:\n\n
LOCATION:Kings College Hospital
END:VEVENT
END:VCALENDAR