BEGIN:VCALENDAR
METHOD:PUBLISH
PRODID:-//SCTS-Website//EN
VERSION:2.0
BEGIN:VEVENT
ORGANIZER;CN=Farhin Holia:MAILTO:farhin.holia@nhs.net
DTSTAMP:20240807T131228Z
DTSTART:20240828T120000Z
DTEND:20240828T170000Z
SUMMARY:London Aortic Dissection Symposium
UID:401@SCTS
CREATED:20240807
DESCRIPTION:\n\n\n\n\n\nREGISTRATION LINK SESSION 1\n\nREGISTRATION LINK SESSION 2\n\n
LOCATION:On line
END:VEVENT
END:VCALENDAR