BEGIN:VCALENDAR
METHOD:PUBLISH
PRODID:-//SCTS-Website//EN
VERSION:2.0
BEGIN:VEVENT
ORGANIZER;CN=Suzie Protheroe-Evans:MAILTO:Office@londonaorta.org>
DTSTAMP:20240805T110559Z
DTSTART:20241003T080000Z
DTEND:20241004T170000Z
SUMMARY:London Aorta 2024
UID:400@SCTS
CREATED:20240805
DESCRIPTION:Registration\n\n\n\n\n\n
LOCATION:Royal College of Physicians
END:VEVENT
END:VCALENDAR