BEGIN:VCALENDAR
METHOD:PUBLISH
PRODID:-//SCTS-Website//EN
VERSION:2.0
BEGIN:VEVENT
ORGANIZER:MAILTO:mara@scts.org
DTSTAMP:20240709T112627Z
DTSTART:20241016T112500Z
DTEND:20241016T112500Z
SUMMARY:SAS/LED Surgeons/Dentists’ Conference
UID:397@SCTS
CREATED:20240709
DESCRIPTION:\n\n
LOCATION:Royal College of Surgeons of Edinburgh
END:VEVENT
END:VCALENDAR