BEGIN:VCALENDAR
METHOD:PUBLISH
PRODID:-//SCTS-Website//EN
VERSION:2.0
BEGIN:VEVENT
ORGANIZER:MAILTO:masterclasses@heartresearch.org.uk
DTSTAMP:20240709T101227Z
DTSTART:20241129T111100Z
DTEND:20241129T111100Z
SUMMARY:Endoscopic heart valve surgery
UID:396@SCTS
CREATED:20240709
DESCRIPTION:\n\n
LOCATION:University of Manchester, Manchester Surgical Skills & Simulation Centre, Stopford Building, Oxford Rd, Manchester, M13 9PT
END:VEVENT
END:VCALENDAR