BEGIN:VCALENDAR
METHOD:PUBLISH
PRODID:-//SCTS-Website//EN
VERSION:2.0
BEGIN:VEVENT
ORGANIZER;CN=Madinina Cox:MAILTO:contact@mc-com.fr
DTSTAMP:20240707T213444Z
DTSTART:20250109T090000Z
DTEND:20250110T180000Z
SUMMARY:5th International Sublobar Resection and Bronchoscopic Ablations Summit
UID:395@SCTS
CREATED:20240707
DESCRIPTION:Programme   Registration\n\nWe are pleased to invite you to our joined 5th International Sublobar Resection and Bronchoscopic Ablations Summit that will take place on January 9th & 10th, 2025 in Paris.\n\nBuilding on our success since 2018 in bringing together the surgical community to discuss sublobar development, we also aim to capitalize on the tremendous success of the first two congresses on bronchoscopic ablation, held in London (2022) and Hong Kong (2023).\n\nTherefore, we will focus on all aspects of sublobar resections for lung cancer, from indications to preoperative planning and advanced surgical techniques. Additionally, we will present the latest advancements in robotic bronchoscopy, advanced navigation, imaging, and ablation technologies that could lead the way in the sublobar field in the near future! These various techniques will coexist and complement each other. That’s why the Institut Mutualiste Montsouris and St. Barts Hospital are joining forces and pooling their experience for this new edition.\n\nThe focus of this event will be to assemble an even larger gathering of the world’s brightest minds and leaders in sublobar resection and lung ablation, to share their experiences and discuss the advances made in recent years.\n\nAs a result, the conference will serve as an open door to an exciting and promising future. We expect this conference to appeal over 400 specialists from all around the World.\n\nMore info.\n\n\n\n \n\n
LOCATION:Paris, France
END:VEVENT
END:VCALENDAR