BEGIN:VCALENDAR
METHOD:PUBLISH
PRODID:-//SCTS-Website//EN
VERSION:2.0
BEGIN:VEVENT
ORGANIZER;CN=Babs Amponsah:MAILTO:masterclasses@heartresearch.org.uk
DTSTAMP:20240702T114659Z
DTSTART:20241025T073000Z
DTEND:20241025T160000Z
SUMMARY:Endoscopic Heart Valve Surgery
UID:394@SCTS
CREATED:20240702
DESCRIPTION:\n\n
LOCATION:University of Manchester, Manchester Surgical Skills & Simulation Centre, Stopford Building, Oxford Rd, Manchester, M13 9PT
END:VEVENT
END:VCALENDAR