BEGIN:VCALENDAR
METHOD:PUBLISH
PRODID:-//SCTS-Website//EN
VERSION:2.0
BEGIN:VEVENT
ORGANIZER:MAILTO:rishab.makam@nhs.net
DTSTAMP:20240624T163046Z
DTSTART:20240703T153000Z
DTEND:20240703T163000Z
SUMMARY:An overview of a life in Congenital Cardiac surgery: Webinar
UID:393@SCTS
CREATED:20240624
DESCRIPTION:\n\n
LOCATION:On line
END:VEVENT
END:VCALENDAR