BEGIN:VCALENDAR
METHOD:PUBLISH
PRODID:-//SCTS-Website//EN
VERSION:2.0
BEGIN:VEVENT
ORGANIZER;CN=Alana Atkinson:MAILTO:alana.atkinson555@yahoo.co.uk
DTSTAMP:20240624T162626Z
DTSTART:20240626T180000Z
DTEND:20240626T200000Z
SUMMARY:Webinar 6: Life after a training number
UID:392@SCTS
CREATED:20240624
DESCRIPTION:\n\n
LOCATION:On line
END:VEVENT
END:VCALENDAR