BEGIN:VCALENDAR
METHOD:PUBLISH
PRODID:-//SCTS-Website//EN
VERSION:2.0
BEGIN:VEVENT
ORGANIZER;CN=The Aortic Dissection Charitable Trust:MAILTO:heretohelp@tadct.org
DTSTAMP:20240617T112437Z
DTSTART:20240905T080000Z
DTEND:20240905T170000Z
SUMMARY:Scottish Aortic Dissection Education 2024
UID:389@SCTS
CREATED:20240617
DESCRIPTION:\n\n
LOCATION:Royal College of Physicians and Surgeons, Glasgow
END:VEVENT
END:VCALENDAR