BEGIN:VCALENDAR
METHOD:PUBLISH
PRODID:-//SCTS-Website//EN
VERSION:2.0
BEGIN:VEVENT
ORGANIZER:MAILTO:Lorrainerichardson1@btinternet.com
DTSTAMP:20240612T102635Z
DTSTART:20240919T102400Z
DTEND:20240921T102400Z
SUMMARY:31st  BIRMINGHAM REVIEW  COURSE IN CARDIOTORACIC SURGERY
UID:388@SCTS
CREATED:20240612
DESCRIPTION:\n\n
END:VEVENT
END:VCALENDAR