BEGIN:VCALENDAR
METHOD:PUBLISH
PRODID:-//SCTS-Website//EN
VERSION:2.0
BEGIN:VEVENT
ORGANIZER:MAILTO:mara@scts.org
DTSTAMP:20240604T143714Z
DTSTART:20240626T153000Z
DTEND:20240626T173000Z
SUMMARY:UK-AS EDUCATE SERIES
UID:387@SCTS
CREATED:20240604
DESCRIPTION:\n\n \n\nUK-AS is a registered UK charity of consultant cardiac, vascular and radiology consultants whose aim is to improve the care of patients in the UK and Ireland through education.  Alongside organising the aortic sessions at the annual SCTS meeting, we are now proud to announce that we have started a monthly webinar called 'Educate' showcasing the knowledge of aortic experts from around the UK and Ireland in operative techniques and management strategies of aortic disease.  The series is aimed at NTN and TAD's approaching the FRCS examination or start of their consultant careers.  \n\n \n\nWe are pleased to announce our 2nd Educate Webinar series featuring Ms Debbie Harrington will take place on Wednesday 26th June at 16.30. You can register at\n\nhttps://app.medall.org/c/uk-as\n\n \n\nMembership of UK-AS (www.uk-as.org) is free to all doctors below consultant grade, nursing staff and AHP's so please feel free to share the details of this webinar and UK-AS widely across all units in the UK and Ireland.\n\n
LOCATION:On line
END:VEVENT
END:VCALENDAR