BEGIN:VCALENDAR
METHOD:PUBLISH
PRODID:-//SCTS-Website//EN
VERSION:2.0
BEGIN:VEVENT
ORGANIZER;CN=Babs Amponsah/Holly Fleetwood:MAILTO:masterclass@heartresearch.org.uk
DTSTAMP:20240530T110336Z
DTSTART:20240909T110100Z
DTEND:20240909T110100Z
SUMMARY:Endoscopic heart valve surgery
UID:385@SCTS
CREATED:20240530
DESCRIPTION:\n\nApplications are opened till the 12th of June.\n\n
LOCATION:Kate Granger Building, 30 Priestley Road, Surrey Research Park, Guildford, Surrey, GU2 7YH
END:VEVENT
END:VCALENDAR