BEGIN:VCALENDAR
METHOD:PUBLISH
PRODID:-//SCTS-Website//EN
VERSION:2.0
BEGIN:VEVENT
ORGANIZER;CN=Youssef Abouelela:MAILTO:youssef.abouelela@nhs.net
DTSTAMP:20240520T102935Z
DTSTART:20240530T080000Z
DTEND:20240530T150000Z
SUMMARY:Essex Cardiothoracic Centre Wet Lab Series: "Chest Drain Insertion"
UID:383@SCTS
CREATED:20240520
DESCRIPTION:\n\n
LOCATION:Essex Cardiothoracic Centre educational suite Level D
END:VEVENT
END:VCALENDAR