BEGIN:VCALENDAR
METHOD:PUBLISH
PRODID:-//SCTS-Website//EN
VERSION:2.0
BEGIN:VEVENT
ORGANIZER;CN=Dr Oluwanifemi Akintoye:MAILTO:papworth.pdevents@nhs.net
DTSTAMP:20240516T142547Z
DTSTART:20240607T071500Z
DTEND:20240607T120000Z
SUMMARY:Cardiothoracic Skills Course (CaTS)
UID:382@SCTS
CREATED:20240516
DESCRIPTION:\n\n
LOCATION:Heart & Lung Research Institute, Biomedical Campus, Cambridge, CB2 0BD
END:VEVENT
END:VCALENDAR