BEGIN:VCALENDAR
METHOD:PUBLISH
PRODID:-//SCTS-Website//EN
VERSION:2.0
BEGIN:VEVENT
ORGANIZER;CN=Mara Banuta:MAILTO:mara@scts.org
DTSTAMP:20240513T082047Z
DTSTART:20240620T070000Z
DTEND:20240620T160000Z
SUMMARY:SCTS Congenital Cardiac Surgery Course
UID:381@SCTS
CREATED:20240513
DESCRIPTION:\n\n \n\nSCTS has an established role in education within Cardiothoracic Specialty.\n\nIn recognition of the peculiar nature of training in Congenital Cardiac Surgery and the dedication of clinical fellows in providing service within the CHD Centres, SCTS Education is supporting the organisation and attendance of a dedicated Congenital Heart Surgery Hands-on Course.\n\nTopics: \n\nSurgical techniques to address LVOTO (subaortic, aortic, supraortic stenosis). Including Ross operation on piglets and pigs hearts\n\nPreparation materials will be distributed ahead of the course\n\nAttendees: CHD Clinical Fellows, Trust doctors and NTN. \n\nPlease note that this course is only open to those who have not attended previously.\n\nFees: No fees to be paid for course attendance (£100 refundable deposit required to secure a place on the course only).\n\nSCTS membership: Active Membership to SCTS is required.\n\nStations:  \n\nAnatomy demonstration of the AV and Subaortic area and the PV and RVOT in preparation for the Ross operationSubaortic exposure and septal myectomyAV repair by commissurotomy and leaflet resuspensionSupraortic pantaloon patch aortic enlargementSubaortic tunnel and modified Ross operationRoss Operation \n\n
LOCATION:Ashorne Hill, Leamington Spa
END:VEVENT
END:VCALENDAR