BEGIN:VCALENDAR
METHOD:PUBLISH
PRODID:-//SCTS-Website//EN
VERSION:2.0
BEGIN:VEVENT
ORGANIZER:MAILTO:mara@scts.org
DTSTAMP:20240430T104518Z
DTSTART:20240507T180000Z
DTEND:20240507T190000Z
SUMMARY:ISCP - Trainer / Trainee Interface Webinar
UID:380@SCTS
CREATED:20240430
DESCRIPTION:\n\n
LOCATION:Webinar
END:VEVENT
END:VCALENDAR