BEGIN:VCALENDAR
METHOD:PUBLISH
PRODID:-//SCTS-Website//EN
VERSION:2.0
BEGIN:VEVENT
ORGANIZER:MAILTO:gfitzmaurice@stjames.ie
DTSTAMP:20240430T103153Z
DTSTART:20240510T070000Z
DTEND:20240510T160000Z
SUMMARY:Thoracic Surgical Oncology: Focus on Lung Cancer
UID:379@SCTS
CREATED:20240430
DESCRIPTION:\n\n
LOCATION:Royal College of Surgeons in Ireland, Dublin
END:VEVENT
END:VCALENDAR